BEGIN:VCALENDAR
VERSION:2.0
PRODID:-//wp-events-plugin.com//7.2.3.1//EN
BEGIN:VEVENT
UID:44@democracywatchnews.org
DTSTART:20230704T150000Z
DTEND:20230704T153000Z
DTSTAMP:20230523T182339Z
URL:https://democracywatchnews.org/events/democracy-movement-report-07-04-
 2023/
SUMMARY:Democracy Movement Report
DESCRIPTION:Join us in a recurring Twitter Space for conversation about the
  news of the day.  These can last from 15 minutes to 3 hours\, but genera
 lly 30 minutes is an approximate duration.\n\nYou can listen on a computer
 —but not a tablet!—but to speak\, you need a smart phone for full part
 icipation.\n\nSee the comment for this week’s link to our noncommercial\
 , public-service discussion event.\n\n&nbsp\;
CATEGORIES:Twitter Space
END:VEVENT
END:VCALENDAR