BEGIN:VCALENDAR
VERSION:2.0
PRODID:-//wp-events-plugin.com//7.2.3.1//EN
BEGIN:VEVENT
UID:67@democracywatchnews.org
DTSTART:20230926T220000Z
DTEND:20230926T223000Z
DTSTAMP:20230730T152128Z
URL:https://democracywatchnews.org/events/deep-shadows-the-convergence-of-
 nonfiction-and-fiction-2023-09-26/
SUMMARY:Deep Shadows: The Convergence of Nonfiction and Fiction # 907/30/20
 23
DESCRIPTION:Join us in a recurring Twitter Space for conversation about fic
 tion\, nonfiction\, and their convergence.  These can last from 15 minute
 s to 3 hours\, but 30 minutes is an approximate duration.\n\nYou can liste
 n on a computer—but not a tablet!—but to speak\, you need a smart phon
 e for full participation.\n\nSee the comment for this week’s link to our
  noncommercial\, public-service discussion event.\n\n&nbsp\;
CATEGORIES:Twitter Space
END:VEVENT
END:VCALENDAR