BEGIN:VCALENDAR
VERSION:2.0
PRODID:-//wp-events-plugin.com//7.2.3.1//EN
BEGIN:VEVENT
UID:24@democracywatchnews.org
DTSTART;TZID=America/New_York:20230307T220000
DTEND;TZID=America/New_York:20230307T223000
DTSTAMP:20230228T182525Z
URL:https://democracywatchnews.org/events/deep-shadows-the-convergence-of-
 fiction-and-nonfiction-2023-03-07-2-2/
SUMMARY:Deep Shadows: The Convergence of Nonfiction and Fiction
DESCRIPTION:Join us in a recurring Twitter Space for conversation about fic
 tion\, nonfiction\, and their convergence.  These can last from 15 minute
 s to 3 hours\, but generally 30 minutes is an approximate duration.\n\nYou
  can listen on a computer—but not a tablet!—but to speak\, you need a 
 smart phone for full participation.\n\nSee the comment for this week’s l
 ink to our noncommercial\, public-service discussion event.\n\n&nbsp\;
CATEGORIES:Twitter Space
END:VEVENT
BEGIN:VTIMEZONE
TZID:America/New_York
X-LIC-LOCATION:America/New_York
BEGIN:STANDARD
DTSTART:20221106T010000
TZOFFSETFROM:-0400
TZOFFSETTO:-0500
TZNAME:EST
END:STANDARD
END:VTIMEZONE
END:VCALENDAR